BEGIN:VCALENDAR
VERSION:2.0
PRODID:-//Tara Yoga İzmir - ECPv4.9.12//NONSGML v1.0//EN
CALSCALE:GREGORIAN
METHOD:PUBLISH
X-WR-CALNAME:Tara Yoga İzmir
X-ORIGINAL-URL:https://tarayogaizmir.com
X-WR-CALDESC:Events for Tara Yoga İzmir
BEGIN:VTIMEZONE
TZID:Europe/Moscow
BEGIN:STANDARD
TZOFFSETFROM:+0300
TZOFFSETTO:+0300
TZNAME:MSK
DTSTART:20200101T000000
END:STANDARD
END:VTIMEZONE
BEGIN:VEVENT
DTSTART;TZID=Europe/Moscow:20201003T000000
DTEND;TZID=Europe/Moscow:20201031T000000
DTSTAMP:20260425T233642
CREATED:20200906T064155Z
LAST-MODIFIED:20200906T064155Z
UID:7628-1601683200-1604102400@tarayogaizmir.com
SUMMARY:Berrin Boyar ve Pelin Burcu Kaplan ile Hatha Yoga Başlangıç Kursu
DESCRIPTION:Berrin Boyar ve Pelin Burcu Kaplan’la HathaYoga’ya Başlangıç Kursu \nİçerik \nEkim ayı boyunca dört Cumartesi ve 4 saat sürecek buluşmalarla; hafta içi hocaların birer saatlik derslerine katılarak ve 5 saatlik bireysel çalışma ve ödevlerle tamamlanacak olan kursumuz toplam 30 saattir. \nKursumuz her seviyeden yoga öğrencisine açık olup\, hiçbir yoga deneyimi gerektirmiyor. HathaYoga’yı derinlemesine ve uzun dönemli öğrenip içşelleştirmek isteyen kişiler için uygundur. \nKurs boyunca fiziksel yoga çalışmalarıyla birlikte yoga felsefesi\, mindfulness meditasyon ve Ayurveda konuları işlenecektir. \nPandemi süreci dolayısıyla kursa maksimum 8 öğrenci kabul edilecektir. Yüzyüze buluşmalara talep olursa stüdyoda\, online buluşma olarak talep olursa online olarak yapılacaktır. \nKurs tarihleri : 03-10-24-31 Ekim \nÜcretlendirme – Kurs ücreti 1000 tl + aylık 8 derslik indirimli paket 250 tl = 1250 TL \n\n Buluşma : Köklenmek\n\n\nYoga Felsefesine Giriş\nMindfulness Meditasyona Giriş\nYoga Çalışması\nSoru&Cevap\n\n\n Buluşma: Uyanmak\n\n\nMindfulness Meditasyon Teknikleri\nYoga Çalışması\nAyurveda 101 – Günlük Ritüeller\nSoru&Cevap\n\n\n Buluşma: Sevmek\n\n\nMindfulnessMeditasyon -Nöroplastisite\nYoga Çalışması\nYoga Felsefesi 2\nSoru&Cevap\n\n\n Buluşma: Özümsemek\n\n\nYoga Çalışması\nAyurveda – Beden Tipleri ve Beslenme\nSoru&Cevap\n\n
URL:https://tarayogaizmir.com/aktivite/berrin-boyar-ve-pelin-burcu-kaplan-ile-hatha-yoga-baslangic-kursu/
LOCATION:Tara Yoga İzmir\, 6295/2 sok no:6a Sevgi Apt. Şemikler\, Karşıyaka\, İzmir\, 35590\, Türkiye
CATEGORIES:Eğitim
ATTACH;FMTTYPE=image/jpeg:https://tarayogaizmir.com/wp-content/uploads/2016/12/Hatha-Yoga-Başlangıç-Kursu-min.jpg
END:VEVENT
END:VCALENDAR