BEGIN:VCALENDAR
VERSION:2.0
PRODID:-//Tara Yoga İzmir - ECPv4.9.12//NONSGML v1.0//EN
CALSCALE:GREGORIAN
METHOD:PUBLISH
X-WR-CALNAME:Tara Yoga İzmir
X-ORIGINAL-URL:https://tarayogaizmir.com
X-WR-CALDESC:Events for Tara Yoga İzmir
BEGIN:VTIMEZONE
TZID:Europe/Moscow
BEGIN:STANDARD
TZOFFSETFROM:+0300
TZOFFSETTO:+0300
TZNAME:MSK
DTSTART:20220101T000000
END:STANDARD
END:VTIMEZONE
BEGIN:VEVENT
DTSTART;TZID=Europe/Moscow:20221105T100000
DTEND;TZID=Europe/Moscow:20221211T180000
DTSTAMP:20260424T115114
CREATED:20220712T072312Z
LAST-MODIFIED:20220806T165526Z
UID:9167-1667642400-1670781600@tarayogaizmir.com
SUMMARY:Berrin Boyar ve Pelin Burcu Kaplan ile Tao Vinyasa ve Yin Yoga Uzmanlaşma ve Eğitmenlik Eğitimi Programı
DESCRIPTION:Berrin Boyar ve Pelin Burcu Kaplan hocalarımızdan Tao Vinyasa ve Yin Yoga Uzmanlaşma & Eğitmenlik Eğitimi Programı\n\n\n\nBerrin Boyar ile Tao Vinyasa (6 Tao Vinyasa serisi & Tao felsefesine giriş)\nPelin Burcu Kaplan (Yin Yoga & Mindfulness Meditasyon & Şefkat)\n\n\n\nToplam 60 Saat (Tao Vinyasa 30 saat + Yin Yoga 30 saat)\n\n05-06 Kasım \n12-13 Kasım \n\n19-20 Kasım\n\n3-4 Aralık\n\n10-11 Aralık\n\n10.00-12.30\n14.00-17.30\n\nKimler katılabilir?\nEn az 1 sene düzenli yoga çalışmaları olan yoga öğrencileri ve yoga eğitmenleri\n\n\nÜcret için lütfen iletişime geçiniz. İki taksitte ödeme imkanı ya da 30 Ağustos’a kadar tek seferde yapılan ödemelerde erken ödeme indirimden yararlanabilirsiniz.\n\n\n\n\n\n\n
URL:https://tarayogaizmir.com/aktivite/berrin-boyar-ve-pelin-burcu-kaplan-ile-tao-vinyasa-ve-yin-yoga-uzmanlasma-ve-egitmenlik-egitimi-programi/
LOCATION:Tara Yoga İzmir\, 6295/2 sok no:6a Sevgi Apt. Şemikler\, Karşıyaka\, İzmir\, 35590\, Türkiye
CATEGORIES:Eğitim
ATTACH;FMTTYPE=image/png:https://tarayogaizmir.com/wp-content/uploads/2022/07/web-tt.png
END:VEVENT
END:VCALENDAR