BEGIN:VCALENDAR
VERSION:2.0
PRODID:-//Tara Yoga İzmir - ECPv4.9.12//NONSGML v1.0//EN
CALSCALE:GREGORIAN
METHOD:PUBLISH
X-WR-CALNAME:Tara Yoga İzmir
X-ORIGINAL-URL:https://tarayogaizmir.com
X-WR-CALDESC:Events for Tara Yoga İzmir
BEGIN:VTIMEZONE
TZID:Europe/Moscow
BEGIN:STANDARD
TZOFFSETFROM:+0300
TZOFFSETTO:+0300
TZNAME:MSK
DTSTART:20230101T000000
END:STANDARD
END:VTIMEZONE
BEGIN:VEVENT
DTSTART;TZID=Europe/Moscow:20230916T080000
DTEND;TZID=Europe/Moscow:20231118T170000
DTSTAMP:20260419T193052
CREATED:20230812T111938Z
LAST-MODIFIED:20230812T142111Z
UID:9203-1694851200-1700326800@tarayogaizmir.com
SUMMARY:Pelin Burcu Kaplan ile Mindfulness ve Şefkat Programı (MCP)
DESCRIPTION:Pelin Burcu Kaplan ve Yeşil Yoga işbirliği ile Mindfulness ve Şefkat Programı 16 Eylül’de başlıyor. \nMindfulness ve Şefkat Programı (MCP) \, David Cornwell ve Banu Çeçen tarafından yaratılmış bir program olup\, IMTA( International Mindfulness Teachers Association) tarafından akredite edilmiştir. \nMCP\, katılımcıların hayatlarına farkındalığı ve şefkati davet etmeleri için oluşturulmuş 8 haftalık bir online grup programıdır.Ayrıca program içinde 1 inziva oturumu da mevcuttur ve 8 hafta + 1 inziva oturumu\, toplamda 9 haftalık bir grup çalışmasıdır. \nProgram 16 Eylül – 18 Kasım arası her Cumartesi saat 10.30-13.30 arasında Zoom platformundan online gerçekleştirilecektir. \nBu program özelinde %50 indirim uygulanacaktır. Ağustos ayına kadar yapılan ödemelerde erken ödeme indirimi de mevcuttur. Toplam kontenjan sayısı 20 kişi ile sınırlı olup 5 kişiye de yapılan ön görüşmeler sonrası burs verilecektir. \nProgram sonunda minumum 7 oturumu tamamlamış olanlara Breathing Mind Katılım Serfikası verilecektir. Bu program Mindfulness ve Şefkat Eğitmenlik Eğitiminin ön koşulunu karşılamaktadır. \nMCP; Budist psikoloji\, Nörobilim ve Bilişsel Bilim alanlarında yapılan çalışmalarla desteklenerek katılımcılara kanıtlara dayalı seküler ve çok zengin bir içerik sunar. \n1. Oturum : 16 Eylül Cumartesi 10.30 -13.30 : Mindfulness ve Şefkat\n2. Oturum : 23 Eylül Cumartesi 10.30 – 13.30 : Dikkati Geliştirmek\n3. Oturum : 30 Eylül Cumartesi 10.30-13.30 : Zihnin Halleri\n4. Oturum : 07 Ekim Cumartesi 10.30 – 13.30 : Bedene Yerleşik Hareket\n\n5. Oturum : 14 Ekim  Cumartesi 10.30-13.30 : Şefkati Keşfetmek\n\n6.  Oturum : 21 Ekim  Cumartesi 10.30-13.30 : Öz Şefkat Geliştirmek\nİNZİVA OTURUMU : 04 Kasım Cumartesi 10.30-13.30\n\n\n7. Oturum : 11 Kasım  Cumartesi 10.30-13.30 : Zorluklarla Çalışmak\n\n8.  Oturum : 18 Kasım  Cumartesi 10.30-13.30 : Yaşamı Kutlamak ve Tadını Çıkartmak\n\n\n\nKİMLER KATILABİLİR?\nMindfulness ve Şefkat ile tanışmak isteyen\,\nŞefkatli ve öz şefkatli yaklaşımların hem kendine hem de bütüne faydasına inanan\,\nKendini bilme yolculuğunda farklı yaklaşımlara merak ve ilgisi olan\,\nBilinçli farkındalık hallerini hayatın içine taşıma niyetinde olan\,\nMeditasyon ve mindfulness pratiklerini deneyimlemek isteyen\,\nMindfulness pratikleri ile daha önceden tanışmış ve derinleşmek isteyen\,\n18 yaş üzeri herkes katılabilir.\n\n\nProgram Zoom uygulaması üzerinden canlı ve interaktif olacaktır. Breathing Mind onaylı katılım sertifikası almak için programın minumum 7 oturumuna katılmak gerekmektedir. Bu program Mindfulness ve Şefkat Eğitmenlik Eğitiminin ön koşulunu karşılar.\nProgramla ilgili detaylı bilgi almak için ve gelecekte açılacak programları takip etmek için tarayogaizmir@gmail.com a mail atabilir\, @tarayogaizmir @pelinburcu_kaplan hesaplarını takip edebilirsiniz. \n  \n
URL:https://tarayogaizmir.com/aktivite/pelin-burcu-kaplan-ile-mindfulness-ve-sefkat-programi-mcp-2/
CATEGORIES:Eğitim
ATTACH;FMTTYPE=image/png:https://tarayogaizmir.com/wp-content/uploads/2023/08/hamak-yogası-uzmanlaşma.png
END:VEVENT
BEGIN:VEVENT
DTSTART;TZID=Europe/Moscow:20231104T080000
DTEND;TZID=Europe/Moscow:20240114T170000
DTSTAMP:20260419T193052
CREATED:20230812T102345Z
LAST-MODIFIED:20230812T142410Z
UID:9199-1699084800-1705251600@tarayogaizmir.com
SUMMARY:Nihan Hantal ile 200 Saat Temel Yoga Uzmanlaşma Programı
DESCRIPTION:Sevgili Nihan Hantal ile geleneksel hale gelen 200 saat Temel Yoga Uzmanlaşma Programı Kasım ayında başlıyor. \nNihan Hantal ile 200 Saatlik Yoga Hocalık Eğitimi\, yogayı seven ve hayatının bir parçası haline getirmek isteyen herkese açıktır. Vinyasa yoga temelli bu eğitim\, Yoga pratiğini derinleştirmek isteyen ve/veya pratiğini bir adim öteye götürüp yogayı başkalarına da yaymak için heves duyan herkes için hazırlandı. \nEğitim İçeriği; \n*Asanalarin (yoga pozları) Derinlikle Öğrenilmesi \n*Fiziksel ve Sözlü Düzeltme Teknikleri \n*Yoga Tarihi ve Felsefesi \n*Nefes Egzersizleri \n*Meditasyon Teknikleri \n*Farklı Yoga Türlerinin İncelenmesi \n*Ders Sekanslama ve Akıcı Ders Anlatımı \n*Ders Anlatma ve Derste İletişim Teknikleri \nEğitim Tarihleri; \nKasım 4-5\nKasım 11-12\nKasım 25-26\nAralık 2-3\nAralık 16-17\nAralık 23-24\nOcak 13-14 \nEğitim sonunda\, eğitim şartlarını yerine getiren katılımcılara Yoga Alliance onaylı sertifika verilecektir. Eğitimin %70 ine katılmak zorunludur. Yüz yüze bir eğitimdir. \n*** Butik bir eğitim olduğu için kontenjan sınırlıdır. 15 Eylül’e kadar erken ödeme indirimi mevcuttur. Kesin kayıt ve ayrıntılı bilgi için iletişim numaramızdan bizimle iletişime geçebilirsiniz. \n
URL:https://tarayogaizmir.com/aktivite/nihan-hantal-ile-200-saat-temel-yoga-uzmanlasma-programi/
LOCATION:Tara Yoga İzmir\, 6295/2 sok no:6a Sevgi Apt. Şemikler\, Karşıyaka\, İzmir\, 35590\, Türkiye
CATEGORIES:Eğitim
ATTACH;FMTTYPE=image/png:https://tarayogaizmir.com/wp-content/uploads/2023/08/karar-web1.png
END:VEVENT
END:VCALENDAR